BEGIN:VCALENDAR
VERSION:2.0
PRODID:-//My Community Diary//iCal Event//EN
CALSCALE:GREGORIAN
METHOD:PUBLISH
BEGIN:VEVENT
UID:c4477e50-a8d0-4d6c-8e6c-d0d762c9c9fd
DTSTAMP:20260424T164402Z
DTSTART:20230424T000000Z
DTEND:20230424T235959Z
SUMMARY:Sail Port Stephens
DESCRIPTION:Sail Port Stephens is an annual yachting regatta held in the pristine waters of Port Stephens\, headquartered at d'Albora Marina Nelson Bay. \n\nThe event offers great sailing for all classes of boats plus a vibrant social and entertainment program. It's family-friendly\, affordable and fun!\n\nYou can drive to Port Stephens from Sydney in less than three hours. Alternatively\, fly from Melbourne or Queensland direct to Newcastle Airport. There's a wide range of accommodation available to suit any budget.
LOCATION:\, Teramby Road d'Albora Marina\, Nelson Bay\, NSW 2315\, NSW\, 2315
RRULE:FREQ=DAILY;INTERVAL=1;UNTIL=20240506T000000Z
END:VEVENT
END:VCALENDAR
