BEGIN:VCALENDAR
VERSION:2.0
PRODID:-//My Community Diary//iCal Event//EN
CALSCALE:GREGORIAN
METHOD:PUBLISH
BEGIN:VEVENT
UID:0a44ca2b-0319-45a3-863d-55da50ad7e88
DTSTAMP:20260424T160649Z
DTSTART;TZID=E. Australia Standard Time:20190116T203000
DTEND;TZID=E. Australia Standard Time:20190116T210000
SUMMARY:Surfer's Paradise - SOS (Street Outreach Services)
DESCRIPTION:Our Street Outreach Services support people who are experiencing\, or at risk of\, homelessness\, or have issues with alcohol and other drugs\, to access services.\n\nWe provide non-judgemental and confidential support through referrals\, information and a vital outreach of compassion. Our patrols visit parks\, street sides and other accessible areas in the regions where we operate. In some locations we offer a barbeque.\n\nOur Mobile Outreach Support and Health Program by Integrated Teams (better known as MOSHPIT) provides a unique health service. Each of our vans offer a fully equipped on board health centre providing check-ups\, dressings for minor wounds\, referrals to other agencies and support in gaining housing. We partner with other local agencies including GPs and nurses\, counsellors\, Centrelink officers and volunteers.\n
LOCATION:Cavill Avenue\, Surfer's Paradise\, Cavill Avenue\, Surfers Paradise QLD\, Australia\, QLD\, 4217
RRULE:FREQ=WEEKLY;INTERVAL=1;BYDAY=WE
END:VEVENT
END:VCALENDAR
