BEGIN:VCALENDAR
VERSION:2.0
PRODID:-//My Community Diary//iCal Event//EN
CALSCALE:GREGORIAN
METHOD:PUBLISH
BEGIN:VEVENT
UID:21bd96ee-6f29-4b0b-9e1e-5d88ef3fe4e3
DTSTAMP:20260424T165448Z
DTSTART:20211205T083000Z
DTEND:20211205T120000Z
SUMMARY:Kiewa Street Market
DESCRIPTION:The Rotary Kiewa Street Community Market is a joint venture between the Rotary Club of Albury North and the Rotary Club of Belvoir Wodonga.\n\nThe market is held every Sunday. Stalls are situated on the ground floor. Pedestrian access is available from Kiewa Street and Hume Street. All sites are wheelchair accessible. Smoking is not permitted on the ground floor or upper floors of the parking structure.\n\nAlmost anything can be purchased at the market from worm farms to woollen socks\, flowers to fishing tackle\, and pottery to fresh produce. Entry is by gold coin donation with all proceeds from these donations as well as site fees collected going towards local and international Rotary projects.\n\nVisit the website to find information on hosting a stall including costs\, conditions\, and contact detail.\n\nEntry Cost\nAdult $1 
LOCATION:\, Kiewa Street\, Albury\, NSW 2640\, NSW\, 2640
RRULE:FREQ=WEEKLY;INTERVAL=1;BYDAY=SU;UNTIL=20240129T000000Z
END:VEVENT
END:VCALENDAR
