BEGIN:VCALENDAR
VERSION:2.0
PRODID:-//My Community Diary//iCal Event//EN
CALSCALE:GREGORIAN
METHOD:PUBLISH
BEGIN:VEVENT
UID:f5c469b6-129d-4da6-a881-f4d56827284d
DTSTAMP:20260421T223015Z
DTSTART;TZID=AUS Eastern Standard Time:20250826T173000
DTEND;TZID=AUS Eastern Standard Time:20250826T190000
SUMMARY:Physical Disability Adaptive Tennis 
DESCRIPTION:At Discover Sports Group Newcastle (Broadmeadow)&nbsp\;there is a weekly&nbsp\;opportunity for people with physical disability interested in learning or improving their tennis to come along on Tuesday nights from 5:30pm to 7pm.\n\nDiscover Sports Group and Australian Standing Adaptive Tennis Association have joined forces to deliver this opportunity with support from City of Newcastle.\n\nCost is $10 each week&nbsp\;to participate. Any level of ability is welcome and may help you on a pathway to enjoy tennis for the physical and/or social benefits.\n\nMore information contact Kai Ryan on 0490 350 091\n
LOCATION:Discover Sports Tennis Centre\, Newcastle & District Tennis Association\, Lambton Road\, Broadmeadow NSW\, Australia\, NSW\, 2305
RRULE:FREQ=WEEKLY;INTERVAL=1;BYDAY=TU
END:VEVENT
END:VCALENDAR
