BEGIN:VCALENDAR
VERSION:2.0
PRODID:-//My Community Diary//iCal Event//EN
CALSCALE:GREGORIAN
METHOD:PUBLISH
BEGIN:VEVENT
UID:9d85d065-d948-4df8-9795-cce3dd3621c4
DTSTAMP:20260422T003010Z
DTSTART;VALUE=DATE:20260502
DTEND;VALUE=DATE:20260503
SUMMARY:Milton Village Showground Market
DESCRIPTION:This beautiful market is held in the grounds of Milton Showgrounds the first Saturday of the month. From September 2025 to March 2026 this market will be operating First & Third Saturday of every month.\n\nThis market offers over 100 stalls\, with quality handmade crafts\, ladies\, babies and men's fashion. Find delicious street foods\, pastries\, olives\, cheeses\, local honey and sourdough bread as well as local produce\, farm eggs and meats.\n\nClyde River Berry Farm sells organic ice cream\, and Milton Lions also operate a barbeque at each market day. There are also quality collectables\, vintage\, retro and memorabilia. On some market days\, you will find anything from restored furniture\, surfboards\, quality collectables plants\, vintage & vinyls\, re-purposed books and specialty handmade. You will also find yummy donuts\, Thai and Columbian foods.
LOCATION:\, 107 Croobyar Road\, Milton\, NSW 2538\, NSW\, 2538
RRULE:FREQ=DAILY;INTERVAL=1;UNTIL=20260504T000000Z
END:VEVENT
END:VCALENDAR
