BEGIN:VCALENDAR
VERSION:2.0
PRODID:-//My Community Diary//iCal Event//EN
CALSCALE:GREGORIAN
METHOD:PUBLISH
BEGIN:VEVENT
UID:a7f9739d-1e9a-448b-bfdd-7dce0dcf2102
DTSTAMP:20260424T165110Z
DTSTART:20240222T000000Z
DTEND:20240222T235959Z
SUMMARY:Shimano Husky Triathlon Festival
DESCRIPTION:The Shimano Ultimate Husky Triathlon Festival has grown to become one of Australia's most loved Long Course events\, and 2024 will be 19 years of this electric event. \n\nAlong with the Long Course race\, there's an action-packed program that includes Sprint\, Super Sprint and Classic distance triathlons\, a return of the popular Aquabike (swim\, bike only)\, Ocean Swims\, Fun Runs\, a TRIKIDS triathlon (seven to eleven-year-olds)\, plus a massive Health and Lifestyle Expo.\n\nHuskisson is a spectacular spot to race and holiday with great local cafes and restaurants a range of accommodations from camping\, cabins\, motels\, the famous Husky Pub to beachfront homes.\n\nPack up the family and make a weekend of it and experience all that the unspoilt Shoalhaven has to offer.
LOCATION:\, Hawke Street\, Huskisson\, NSW 2540\, NSW\, 2540
RRULE:FREQ=DAILY;INTERVAL=1;UNTIL=20240226T000000Z
END:VEVENT
END:VCALENDAR
