BEGIN:VCALENDAR
VERSION:2.0
PRODID:-//My Community Diary//iCal Event//EN
CALSCALE:GREGORIAN
METHOD:PUBLISH
BEGIN:VEVENT
UID:6e501c93-5d6b-499c-952b-bdb03dc864d2
DTSTAMP:20260424T173533Z
DTSTART;TZID=AUS Eastern Standard Time:20200408T110000
DTEND;TZID=AUS Eastern Standard Time:20200408T120000
SUMMARY:Online Baby Rhyme Time
DESCRIPTION:ONLINE BABY RHYMETIME EVERY FRIDAY 11 AM\n\nSessions&nbsp\;will be held every Friday live on the Library Facebook Page&nbsp\;Coffs Harbour Libraries Facebook\n\nJoin in for Songs\, Rhymes\, Dance\, Books\, Fun!\n\nDon't forget to join us on Friday!\n
LOCATION:Online\, Coffs Harbour Libraries Facebook\, NSW\, 2450
END:VEVENT
END:VCALENDAR
