BEGIN:VCALENDAR
VERSION:2.0
PRODID:-//My Community Diary//iCal Event//EN
CALSCALE:GREGORIAN
METHOD:PUBLISH
BEGIN:VEVENT
UID:b70ecfdf-4605-4d85-9b1a-cd52ff5cb663
DTSTAMP:20260424T164402Z
DTSTART:20240826T000000Z
DTEND:20240826T235959Z
SUMMARY:Parkes Agricultural Show
DESCRIPTION:The Parkes Show is held each year at the end of August and runs over three days and two nights with plenty of entertainment\, side shows and trade stands along with a spectacular fireworks display that can be seen from miles around.\n\nThe event also features four days of horse events as well as exhibits of sheep\, cattle\, birds and poultry. The Parkes Show is one of the biggest agricultural shows west of the Blue Mountains.\n\nFollow along with the Parkes Show Society’s Facebook page to keep up-to-date on what’s happening.  Also\, check out the website and even take part by entering as an exhibitor\, all entry forms are online.
LOCATION:\, 55 Mitchell Street\, Parkes\, NSW 2870\, NSW\, 2870
RRULE:FREQ=DAILY;INTERVAL=1;UNTIL=20240829T000000Z
END:VEVENT
END:VCALENDAR
