BEGIN:VCALENDAR
VERSION:2.0
PRODID:-//My Community Diary//iCal Event//EN
CALSCALE:GREGORIAN
METHOD:PUBLISH
BEGIN:VEVENT
UID:405560dc-dfff-489d-850e-bde0e3e5b063
DTSTAMP:20260422T020911Z
DTSTART;TZID=E. Australia Standard Time:20241112T090000
DTEND;TZID=E. Australia Standard Time:20241112T140000
SUMMARY:Hearing Health Education Sessions
DESCRIPTION:Community Hearing Health Education Sessions&nbsp\;(Hearing Checks also available)\n\nCall Julie on 0447 113 663 to book your hearing health session\n\nI am here to support you\, your team and clients with anything hearing related and can provide the following services at no cost to you or your community:\n\n\n	Information sessions for people who believe they may have a hearing loss or just wish to be informed about available hearing services.\n	Hearing clinics with initial screening testing to discover potential hearing loss.\n	Hearing clinics to clean existing devices and chat with people regarding their current hearing experience.\n	Staff training presentations on the basics of hearing aid cleaning\, maintenance\, and basic troubleshooting.\n	Mobile screening service van available to attend your site depending on availability.\n	Liaise with aged care facilities and retirement villages for new residents hearing care.\n	Information stands for expos\, meetings\, health hubs etc..\n	Hearing aid cleaning and maintenance kits available for eligible service providers/facilities.\n\n\n&nbsp\;\n\nHearing Australia is a statutory body of the Australian Federal Government and we specialise in assisting senior Australians\, DVA recipients\, people with complex communication needs\, children\, and Indigenous Australians. As a government entity\, we also receive funding for services that may attract a fee at other hearing services.\n
LOCATION:WE COME TO YOU\, Boonah QLD\, Australia\, QLD\, 4310
RRULE:FREQ=DAILY;INTERVAL=1
END:VEVENT
END:VCALENDAR
