BEGIN:VCALENDAR
VERSION:2.0
PRODID:-//My Community Diary//iCal Event//EN
CALSCALE:GREGORIAN
METHOD:PUBLISH
BEGIN:VEVENT
UID:836ea6fa-52ce-4f45-a8af-cc94a4f3b2b4
DTSTAMP:20260422T021005Z
DTSTART;VALUE=DATE:20260521
DTEND;VALUE=DATE:20260522
SUMMARY:2026 Oceania Athletics Championships
DESCRIPTION:The 2026 Oceania Athletics Championships will be conducted in Darwin\, Australia.\n\nAustralia has previously hosted the Championships on seven occasions\, and this will be the first time Darwin has hosted the Championships\, joining Cairns\, Townsville\, Mackay and Adelaide as host Cities in Australia. Darwin’s tropical climate and multicultural mix\, makes it a perfect host venue for the Championships.  \n\nThe Larrakia people are the Traditional Owners of the land that have lived in the greater Darwin region since before European settlement. The Larrakia\, who refer to themselves as “Saltwater People”\, had a vibrant history based on a close relationship with the sea and trade with neighbouring groups such as the Tiwi\, Wadjiginy and Djerimanga as well as trading routes with Southeast Asia.
LOCATION:\, 40 Abala Road\, Marrara\, NT 0812\, NT\, 0812
RRULE:FREQ=DAILY;INTERVAL=1;UNTIL=20260523T000000Z
END:VEVENT
END:VCALENDAR
