BEGIN:VCALENDAR
VERSION:2.0
PRODID:-//My Community Diary//iCal Event//EN
CALSCALE:GREGORIAN
METHOD:PUBLISH
BEGIN:VEVENT
UID:a6bdc350-825d-4ea7-920f-4806fd7a358d
DTSTAMP:20260424T164511Z
DTSTART:20240503T000000Z
DTEND:20240503T235959Z
SUMMARY:Narrabri Show
DESCRIPTION:Narrabri Show 2024 - Dates are yet to be confirmed\, keep an eye out for more information.\n\nNarrabri Show attracts a wide range of competitors and brings the community together for several days of excitement and pleasure. Enjoy live entertainment and bar facilities on both Friday and Saturday night of the show. ?\n\nThere's something for everyone at Narrabri Show:\n\nSome of Australia's finest stud stock will be on display throughout the show\, as well as an amazing animal nursery. All the pavilions are open daily displaying cooking and preserves\, handicrafts\, fine arts\, cake decorating \, school art\, plants and roses. Food and other refreshments are available.\n\nThere is always a jam-packed program of events in the arena with a Rodeo Friday night and ending with a spectacular Fireworks display at Saturday night.
LOCATION:\, Ugoa Street\, Narrabri\, NSW 2390\, NSW\, 2390
RRULE:FREQ=DAILY;INTERVAL=1;UNTIL=20240506T000000Z
END:VEVENT
END:VCALENDAR
