BEGIN:VCALENDAR
VERSION:2.0
PRODID:-//My Community Diary//iCal Event//EN
CALSCALE:GREGORIAN
METHOD:PUBLISH
BEGIN:VEVENT
UID:7db2b8c1-865c-46f5-b29b-6eab0151a390
DTSTAMP:20260424T161014Z
DTSTART:20240503T000000Z
DTEND:20240503T235959Z
SUMMARY:Narooma Oyster Festival
DESCRIPTION:A favourite on the New South Wales food and beverage calendar\, Narooma Oyster Festival celebrates the Rock Oyster on the shores of Wagonga Inlet on the first weekend in May.\n \nA complex\, delicious and luxurious seafood\, Rock Oysters are native to New South Wales estuaries. When paired with wholesome produce\, great drops and opportunities to dive deeper into the world of oysters - it creates a festival that people return to year after year.\n\nJoin growers\, chefs and shuckers to celebrate this brilliant bi-valve in cosmopolitan food experiences and great entertainment. About 70\,000 Rock Oysters are quaffed here each year!\n\nMeet the oyster farmers and discover the merrior of NSW estuaries in Oyster Farmers Alley\, cheer on the shuckers in Australia's Oyster Shucking Championships and see how big an oyster can grow in Australia's Biggest Oyster competition. \n\nLearn from top chefs in the Cooking Demonstrations and fill your larder with South Coast produce from the markets. \n\nRock Oyster Lounge - Long Table Dinner - Ultimate Oyster Experiences-  Champagne & Oyster Cruises - KidsZone - Arts - Fireworks - Live Music on two stages - Local Shuttle Bus - Coaches from Eurobodalla and Sapphire Coast.\n\nEntry Cost\nAll tickets $0  - Children under 16 enter free with an accompanied adult.\nPets are not permitted.
LOCATION:\, 10 Riverside Drive\, Narooma\, NSW 2546\, NSW\, 2546
RRULE:FREQ=DAILY;INTERVAL=1;UNTIL=20240505T000000Z
END:VEVENT
END:VCALENDAR
