BEGIN:VCALENDAR
VERSION:2.0
PRODID:-//My Community Diary//iCal Event//EN
CALSCALE:GREGORIAN
METHOD:PUBLISH
BEGIN:VEVENT
UID:1519f936-15c6-4c71-939f-9eae24b3c889
DTSTAMP:20260422T002703Z
DTSTART;VALUE=DATE:20260528
DTEND;VALUE=DATE:20260529
SUMMARY:Yinarr Journey
DESCRIPTION:Yinarr Journey is the art journey of Patricia Cerminara a Gamilaroi woman\, who has discovered that art can help heal the connection between culture\, people and Country. \n\nOver the years Trish has used many art forms to tell her ancestors stories and has found that art forms like weaving can help thread back together the links to Country that were broken by colonisation. Come along with Trish on her Yinarr Journey.
LOCATION:\, Kiewa St & Swift St\, Albury\, NSW 2640\, NSW\, 2640
RRULE:FREQ=DAILY;INTERVAL=1;UNTIL=20260530T000000Z
END:VEVENT
END:VCALENDAR
