BEGIN:VCALENDAR
VERSION:2.0
PRODID:-//My Community Diary//iCal Event//EN
CALSCALE:GREGORIAN
METHOD:PUBLISH
BEGIN:VEVENT
UID:e1e9bce8-8972-438c-ba77-74fc489ab4aa
DTSTAMP:20260424T125828Z
DTSTART;VALUE=DATE:20260725
DTEND;VALUE=DATE:20260726
SUMMARY:Max Adventure Race Sunshine Coast
DESCRIPTION:If you are looking for an exciting challenge that combines a love for the outdoors with action-packed adventure\, then the Max Adventure Race Series is for you!\n\nDesigned for teams of two\, Max Adventure Race Series events are the perfect introduction to the sport of Adventure Racing. You’ll face a mix of trail running\, mountain biking and kayaking – all while navigating around the course to find the checkpoints in the fastest time possible. \n\nKayaks are provided and hire bikes are available – all you need is a sense of adventure!\n\nEntry Cost\nAll tickets $115 
LOCATION:\, Johnston Road\, Coochin Creek\, QLD 4519\, QLD\, 4519
RRULE:FREQ=DAILY;INTERVAL=1;UNTIL=20260727T000000Z
END:VEVENT
END:VCALENDAR
