BEGIN:VCALENDAR
VERSION:2.0
PRODID:-//My Community Diary//iCal Event//EN
CALSCALE:GREGORIAN
METHOD:PUBLISH
BEGIN:VEVENT
UID:d37cbaf8-57f4-47ed-bffd-1002aa853c64
DTSTAMP:20260424T161012Z
DTSTART:20220611T000000Z
DTEND:20220611T235959Z
SUMMARY:Maclean  Markets
DESCRIPTION:Maclean Community Markets are held on the second Saturday of each month in the main car park\, near the Maclean Bowling Club. \n\nStalls offer a wide range of items including jewellery\, clothing\, plants\, craft and art items\, freshly baked cookies and cakes \nand a great range of fresh produce. \n\nSo bring yourself and the family along and come on down to the \nMaclean Community Markets.
LOCATION:\, Centenary Drive Maclean Car Park\, Maclean\, NSW 2463\, NSW\, 2463
RRULE:FREQ=MONTHLY;INTERVAL=1;BYDAY=3MO;UNTIL=20240512T000000Z
END:VEVENT
END:VCALENDAR
