BEGIN:VCALENDAR
VERSION:2.0
PRODID:-//My Community Diary//iCal Event//EN
CALSCALE:GREGORIAN
METHOD:PUBLISH
BEGIN:VEVENT
UID:a89f87ba-f453-4a24-b064-24c070fabc92
DTSTAMP:20260424T181405Z
DTSTART:20231228T000000Z
DTEND:20231228T235959Z
SUMMARY:Lost Paradise Festival
DESCRIPTION:A more than unique New Years experience set in a lush green grove\, this boutique festival is crafted to pamper and provoke with plush glamping in painted teepees\, experiential art activations\, tongue tantalising long table feasts\, wild and weird circus acts\, a spa fresh as seabreeze\, and music divine.\n\nRelease your grip on reality or perhaps the grip reality has on you. \n\nThe Lost Paradise Festival is 6000 beautiful humans embracing new experiences\, community and creativity\, tucked away in beautiful Glenworth Valley which is just an hour north of Sydney city.
LOCATION:\, Glenworth Valley\, NSW 2250\, NSW\, 2250
RRULE:FREQ=DAILY;INTERVAL=1;UNTIL=20240102T000000Z
END:VEVENT
END:VCALENDAR
