BEGIN:VCALENDAR
VERSION:2.0
PRODID:-//My Community Diary//iCal Event//EN
CALSCALE:GREGORIAN
METHOD:PUBLISH
BEGIN:VEVENT
UID:2f30ba3b-f4c7-4aef-a89e-f1e5014eaa1e
DTSTAMP:20260422T000519Z
DTSTART;VALUE=DATE:20260815
DTEND;VALUE=DATE:20260816
SUMMARY:Eden Community Market
DESCRIPTION:Eden Community Market - The Friendly Market.\n\nEden Community Market exemplifies a local Country Market. There are stalls from amazing crafts people\, local cottage industries and sustainable initiatives alongside the classic fare of bric-a-brac\, garden produce\, local concerns and ‘craft for kids’. It is a window into our town\, and surrounds\, and an experience where bargains are found.\nA feature of Eden Community Market is its live music and ‘home-cooked’ delights. Its beautiful location at the ‘top of the hill’\, at the end of the main street\, allows visitors to enjoy a ‘one stop’ experience where a stroll along the shops or a coffee at one of Eden’s cafes can be combined with a truely local community market. \nIt may not be the biggest market on the Far South Coast of NSW but it has a reputation of being one of the friendliest. Visitors will see a community bent on enjoying itself and find themselves being welcomed into the fun.\nThe Market is from 9am till 1pm on the third Saturday of each month on the grounds of Eden Uniting Church at 18-20 Chandos Street\, Eden.
LOCATION:\, 20 Chandos Street\, Eden\, NSW 2551\, NSW\, 2551
RRULE:FREQ=DAILY;INTERVAL=1;UNTIL=20260817T000000Z
END:VEVENT
END:VCALENDAR
