BEGIN:VCALENDAR
VERSION:2.0
PRODID:-//My Community Diary//iCal Event//EN
CALSCALE:GREGORIAN
METHOD:PUBLISH
BEGIN:VEVENT
UID:039892d1-f1f3-4f51-b2df-53f52bf8b663
DTSTAMP:20260424T164511Z
DTSTART:20240309T000000Z
DTEND:20240309T235959Z
SUMMARY:Lockhart Truck Show
DESCRIPTION:Celebrate road transport history\, past and present\, at the annual Lockhart Truck Show.\n\nThe event features historic and modern trucks and other vehicles such as motorbikes\, and classic and vintage cars\, on display in the pavilion.\n\nThere will also be food\, and prizes for winners in a wide range of categories.\n\nCamping is available overnight for a donation\, and includes a Sunday morning breakfast.\n\nEntry Cost\nAdult $5  - Vehicle Exhibitors - Free Entry
LOCATION:\, 111 Federal Street\, Lockhart\, NSW 2656\, NSW\, 2656
END:VEVENT
END:VCALENDAR
