BEGIN:VCALENDAR
VERSION:2.0
PRODID:-//My Community Diary//iCal Event//EN
CALSCALE:GREGORIAN
METHOD:PUBLISH
BEGIN:VEVENT
UID:5bcf2c45-c15c-4326-8b59-41293b7ee837
DTSTAMP:20260421T222237Z
DTSTART;TZID=AUS Eastern Standard Time:20241008T084500
DTEND;TZID=AUS Eastern Standard Time:20241008T093000
SUMMARY:Community Enrichment Program
DESCRIPTION:Dedicated to improving mental and physical health\, this program provides breakfast\, wellbeing checks\, meals\, and &nbsp\;a weekly essential grocery delivery&nbsp\;to vulnerable individuals and families. It offers case management\, counselling\, advocacy and engagement activities\, fostering stronger\, thriving communities.\n
LOCATION:LIVEfree Project\, 486 Glebe Rd\, Adamstown NSW 2289\, NSW\, 2289
RRULE:FREQ=WEEKLY;INTERVAL=1;BYDAY=TU
END:VEVENT
END:VCALENDAR
