BEGIN:VCALENDAR
VERSION:2.0
PRODID:-//My Community Diary//iCal Event//EN
CALSCALE:GREGORIAN
METHOD:PUBLISH
BEGIN:VEVENT
UID:0bb94fee-089d-47a9-a0a3-32175c6fe321
DTSTAMP:20260424T164403Z
DTSTART:20220505T153000Z
DTEND:20220505T183000Z
SUMMARY:Lismore Produce Markets
DESCRIPTION:The Lismore Produce Market is held in the heart of Lismore's central business district with around 30 stalls selling 100 per cent locally grown seasonal goods.\n\nStalls include produce\, seedlings\, handmade cosmetics\, cleaning products\, candles\, seafood\, wines\, cheeses\, freshly baked bread\, coffee\, cakes\, pickles\, jams\, dips and other home-cooked treats.\n\nMarkets held every Thursday.
LOCATION:\, The Conservatorium Carpark\, Lismore\, NSW 2480\, NSW\, 2480
RRULE:FREQ=WEEKLY;INTERVAL=1;BYDAY=TH;UNTIL=20240503T000000Z
END:VEVENT
END:VCALENDAR
