BEGIN:VCALENDAR
VERSION:2.0
PRODID:-//My Community Diary//iCal Event//EN
CALSCALE:GREGORIAN
METHOD:PUBLISH
BEGIN:VEVENT
UID:b9ef30e3-50a3-46ce-9b7c-0684f24413df
DTSTAMP:20260424T164341Z
DTSTART:20220201T070000Z
DTEND:20220201T110000Z
SUMMARY:Lismore Organic Market
DESCRIPTION:The Lismore Organic Market is a weekly market committed to providing local organic produce\, reducing the carbon footprint. Stallholders have travelled an average of 20 kilometres rather than at least 1000 kilometres you would expect from most supermarket produce. Enjoy the atmosphere - this toddler/child-friendly market not only supplies you with the freshest vegetables you are likely to find anywhere (except from your own garden)\, you can also get growing tips as you do your shopping.
LOCATION:\, Alexandra Parade\, Lismore\, NSW 2480\, NSW\, 2480
RRULE:FREQ=WEEKLY;INTERVAL=1;BYDAY=TU;UNTIL=20240131T000000Z
END:VEVENT
END:VCALENDAR
