BEGIN:VCALENDAR
VERSION:2.0
PRODID:-//My Community Diary//iCal Event//EN
CALSCALE:GREGORIAN
METHOD:PUBLISH
BEGIN:VEVENT
UID:5a0d9fe5-4933-4c1e-a9de-80c926ed6d9f
DTSTAMP:20260424T155902Z
DTSTART;TZID=E. Australia Standard Time:20181127T090000
DTEND;TZID=E. Australia Standard Time:20181127T160000
SUMMARY:Bocce with a Buddy
DESCRIPTION:Bocce with a buddy \n\nCost: $6&nbsp\;for hire of bocce set or bring your own.&nbsp\;\n\nDate: Monday - Friday (except public holidays)&nbsp\;\n\nTime: 9am - 4.30pm - all hired bocce sets must be returned by 4.30pm.\n\nLocation: Malta Garden\n\nEnjoy a game of bocce with a friend on our sand bocce court. Bocce sets are available for hire from Botanic Gardens Visitor Information (Administration).\n\n&nbsp\;\n
LOCATION:Mackay Regional Botanic Gardens\, 9 Lagoon Street\, West Mackay QLD 4740\, QLD\, 4740
RRULE:FREQ=WEEKLY;BYDAY=MO,TU,WE,TH,FR
END:VEVENT
END:VCALENDAR
