BEGIN:VCALENDAR
VERSION:2.0
PRODID:-//My Community Diary//iCal Event//EN
CALSCALE:GREGORIAN
METHOD:PUBLISH
BEGIN:VEVENT
UID:04af4521-b964-45c4-91cd-64d8d54107e4
DTSTAMP:20260422T000525Z
DTSTART;TZID=E. Australia Standard Time:20241009T070000
DTEND;TZID=E. Australia Standard Time:20241009T221500
SUMMARY:Table Tennis 
DESCRIPTION:Table Tennis $2 for the evening&nbsp\;\n\nAnyone can join no age limit&nbsp\;\n\nits a fun evening\n\nSoft drinks and Beers are available&nbsp\;\n\n&nbsp\;\n
LOCATION:Ballandean Hall & Sport Committie\, 28202 New England Highway\, Ballandean QLD 4382\, QLD\, 4382
RRULE:FREQ=WEEKLY;INTERVAL=30;BYDAY=WE
END:VEVENT
END:VCALENDAR
