BEGIN:VCALENDAR
VERSION:2.0
PRODID:-//My Community Diary//iCal Event//EN
CALSCALE:GREGORIAN
METHOD:PUBLISH
BEGIN:VEVENT
UID:51fc6abc-8b9f-4774-b1d9-5702e650a069
DTSTAMP:20260424T154910Z
DTSTART;TZID=E. Australia Standard Time:20181126T173000
DTEND;TZID=E. Australia Standard Time:20181126T183000
SUMMARY:Yoga
DESCRIPTION:Online Yoga Class every Monday afternoon from 5.30 - 6.30pm\n
LOCATION:Thargomindah Community Centre\, 2 Dowling St\, Thargomindah QLD 4492\, Australia\, QLD\, 4492
RRULE:FREQ=WEEKLY;INTERVAL=1;BYDAY=MO
END:VEVENT
END:VCALENDAR
