BEGIN:VCALENDAR
VERSION:2.0
PRODID:-//My Community Diary//iCal Event//EN
CALSCALE:GREGORIAN
METHOD:PUBLISH
BEGIN:VEVENT
UID:0f836da7-43ff-4ecc-8f00-6d1d49622b78
DTSTAMP:20260424T164410Z
DTSTART:20230201T140000Z
DTEND:20230201T180000Z
SUMMARY:Kiama Farmers' Market
DESCRIPTION:The Kiama Farmers’ Market is held every Wednesday at Coronation Park\, right next to Surf beach.\n \nRunning from 3pm - 6pm during daylight savings and 2pm-5pm during non-daylight savings time\, you couldn’t wish for a more picturesque backdrop for your weekly shopping expedition!  The market is started each week by the ringing of the bell - no market trading takes place until the bell has been rung.\n\nThis is a true farmers’ market\,  we care about the origin of food and the protection of local growers\, producers and makers. A market where kids play on the beach and at the park or sit on the grass to have an afternoon picnic snack or early dinner.\n\nEach week you will find a wonderful selection of seasonal produce being sold fresh and direct to you from our local market gardens. Along with fruit and vegetables\, you can expect to find a variety of other produce\, such as seafood\, oysters\, local Wagyu beef\, honey\, eggs\, milk straight from the dairy\, gelato made from local milk\, cider\, wine\, mushrooms\, cakes and tarts\, preserves\, sourdough bread\, street food\, ready-made meals… and so much more!
LOCATION:\, 72 Manning Street Surf Beach\, Kiama\, NSW 2533\, NSW\, 2533
RRULE:FREQ=WEEKLY;INTERVAL=1;BYDAY=WE;UNTIL=20240229T000000Z
END:VEVENT
END:VCALENDAR
