BEGIN:VCALENDAR
VERSION:2.0
PRODID:-//My Community Diary//iCal Event//EN
CALSCALE:GREGORIAN
METHOD:PUBLISH
BEGIN:VEVENT
UID:624093b2-c71e-44c1-8df3-ff8f08a586b4
DTSTAMP:20260424T160522Z
DTSTART:20240720T060000Z
DTEND:20240720T120000Z
SUMMARY:The Guzzler Ultra | Trail Running Festival
DESCRIPTION:The Guzzler Ultra is Brisbane’s very own trail ultra\; presented by The Trail Co. and made possible by Brissie’s thriving trail running community. 99 per cent trails and 100 per cent fun\, you’ll run past Brisbane’s oldest reservoirs in the order they were built. Along the way\, you’ll be well looked after by the wonderful\, crazy and energetic groups that populate Brisbane’s trail scene.\n\nOne of The Trail Co’s ten annual trail running events\, The Guzzler sells out fast once entries open\; not only because it delivers the buzz and excitement of one of Australia’s biggest trail races\, but also because it’s the race run by local trail race experts\, who will ensure you have a safe\, enjoyable and extremely rewarding race-day experience.\n\nJoin The Trail Co\, Brisbane’s trail running specialists\, for The Guzzler Ultra\, the trail race you’ll never forget.\n\nChoose your option: the main Guzzler (100 kilometres)\, the Glass Half Full (50 kilometres)\, the Big Sipper (21 kilometres) or the Dry Run (10 kilometres).
LOCATION:\, Sir Samuel Griffith Drive\, Toowong\, QLD 4066\, QLD\, 4066
RRULE:FREQ=DAILY;INTERVAL=1;UNTIL=20240722T000000Z
END:VEVENT
END:VCALENDAR
