BEGIN:VCALENDAR
VERSION:2.0
PRODID:-//My Community Diary//iCal Event//EN
CALSCALE:GREGORIAN
METHOD:PUBLISH
BEGIN:VEVENT
UID:dc816698-507e-465d-a171-a7dcc2dbe69f
DTSTAMP:20260424T164511Z
DTSTART:20240601T120000Z
DTEND:20240601T200000Z
SUMMARY:MudgeeQue
DESCRIPTION:Returning in 2024\, get set for a bigger\, better MudgeeQue! Embrace the crisp country air\, and warm yourself by crackling fire drums. \n\nExplore the stunning festival grounds whilst indulging in the slow-cooked barbeque phenomenon taking over the world. Local brewers\, winemakers and distillers will serve up their best while you tap your toes and wiggle your hips to live acoustic folk and blues tunes.\n\nOnce inside\, all your senses will instantly engage – there’s nothin’ quite like the smell of barbecue. Capturing the aroma of sweet wood smoke isn’t a challenge to pitmasters\, a one-of-a-kind aroma. Soak it in and drink it up!\n\nEntry Cost\nAdult $40  - Adult tickets include a branded MudgeeQue drinking vessel.\nChild $10  - Child under 5 free.\nVehicle $15  - Bus transfer to and from the event.
LOCATION:\, 267 Ulan Road\, Bombira\, NSW 2850\, NSW\, 2850
END:VEVENT
END:VCALENDAR
