BEGIN:VCALENDAR
VERSION:2.0
PRODID:-//My Community Diary//iCal Event//EN
CALSCALE:GREGORIAN
METHOD:PUBLISH
BEGIN:VEVENT
UID:ec4437fa-010a-44e3-912c-89125c4a9bcf
DTSTAMP:20260424T161013Z
DTSTART:20240330T120000Z
DTEND:20240330T170000Z
SUMMARY:Griffith Vintage Festival
DESCRIPTION:Join us on Easter Saturday as our Riverina wineries showcase their great range of delicious wines. Enjoy wine\, beer\, cider\, live music\, local food and more.\n\nEntry Cost\nAdult $30  - Festival tickets include GVF glass\nChild $0 
LOCATION:\, 55-67 Jondaryan Avenue\, Griffith\, NSW 2680\, NSW\, 2680
END:VEVENT
END:VCALENDAR
