BEGIN:VCALENDAR
VERSION:2.0
PRODID:-//My Community Diary//iCal Event//EN
CALSCALE:GREGORIAN
METHOD:PUBLISH
BEGIN:VEVENT
UID:95a63c28-4b53-47fd-a086-9f3cba8b7493
DTSTAMP:20260424T161013Z
DTSTART:20240406T000000Z
DTEND:20240406T235959Z
SUMMARY:Gunnedah Bird Sale and Expo
DESCRIPTION:The Gunnedah Bird Sale and Expo has been running for over 25 years and has grown to be one of the  biggest Bird Sale venues in Australia. \n\nThe Sale showcases over 3\,000 birds and exhibitors are there to sell! Numerous trade stands exhibit products selling everything from seed\, aviaries\, nest boxes\, cages\, books\, medications and many other bird-related items or products.  \n\nA must for the bird enthusiast\, the Sale & Expo has canteen facilities on site and a Coffee Van.\n\nThe Sale Pavillion doors open at 10am and a gold coin donation entry is asked.  \n\nThe Gunnedah Showground is located in the middle of Gunnedah off South Street and the Sale is held at the Barsketball Stadium & Griffiths Pavillion.  \n\nPlease check the website for more details or call the Gunnedah Visitor Information Centre.
LOCATION:\, South Street Basketball Stadium and Griffiths Pavilion\, Gunnedah\, NSW 2380\, NSW\, 2380
END:VEVENT
END:VCALENDAR
