BEGIN:VCALENDAR
VERSION:2.0
PRODID:-//My Community Diary//iCal Event//EN
CALSCALE:GREGORIAN
METHOD:PUBLISH
BEGIN:VEVENT
UID:0431e3c6-7a5f-4a15-9fd9-9542884b468a
DTSTAMP:20260424T160513Z
DTSTART:20230702T073000Z
DTEND:20230702T120000Z
SUMMARY:Griffith Rotary Market
DESCRIPTION:Meet the local growers at the weekly growers market. Seasonal fruit and vegetables\, bread\, cakes\, Italian biscuits\, jams\, relish\, olive oil\, eggs\, honey and much more is what you will find when you head to the Griffith Rotary Markets.\n\nEntry Cost\nAll tickets $2  - Gold Coin Donation to the Griffith Rotary
LOCATION:\, Murrumbidgee Avenue\, Griffith\, NSW 2680\, NSW\, 2680
RRULE:FREQ=WEEKLY;INTERVAL=1;BYDAY=SU;UNTIL=20240701T000000Z
END:VEVENT
END:VCALENDAR
