BEGIN:VCALENDAR
VERSION:2.0
PRODID:-//My Community Diary//iCal Event//EN
CALSCALE:GREGORIAN
METHOD:PUBLISH
BEGIN:VEVENT
UID:bce94600-a843-456b-96cb-735a9983a22e
DTSTAMP:20260421T205355Z
DTSTART;VALUE=DATE:20260425
DTEND;VALUE=DATE:20260426
SUMMARY:5th National Indigenous Art Triennial
DESCRIPTION:The National Indigenous Art Triennial brings together commissioned work by established and emerging First Nations artists from across Australia\, creating an important platform for art and ideas.\n\nEach iteration of the Triennial is led by a First Nations curator with an original vision.  Artistic Director for the 5th National Indigenous Art Triennial is Tony Albert (Girramay/Yidinji/Kuku-Yalanji peoples)\, one of Australia’s foremost contemporary artists.\n\nAfter the Rain will present new immersive projects that resonate with the idea of rebirth and cycles of cleansing and celebrate inter-generational legacies and cultural warriors of the past\, present and future.\n\nThe National Indigenous Art Triennial is made possible through the continued generosity of the National Gallery’s First Nations Arts Partner Wesfarmers Arts and key philanthropic supporters.\n\nFollowing its presentation in Kamberri/Canberra\, After the Rain will tour nationally.
LOCATION:\, Parkes Place East\, Parkes\, ACT 2600\, ACT\, 2600
RRULE:FREQ=DAILY;INTERVAL=1;UNTIL=20260427T000000Z
END:VEVENT
END:VCALENDAR
