BEGIN:VCALENDAR
VERSION:2.0
PRODID:-//My Community Diary//iCal Event//EN
CALSCALE:GREGORIAN
METHOD:PUBLISH
BEGIN:VEVENT
UID:7be4c971-7d20-4fba-9ec2-1ad7f740b129
DTSTAMP:20260422T071247Z
DTSTART;TZID=AUS Eastern Standard Time:20240905T080000
DTEND;TZID=AUS Eastern Standard Time:20240905T120000
SUMMARY:Garden Open Morning
DESCRIPTION:The Lost Plot is Port Macquarie’s community garden. It is a constantly evolving community space open to anyone regardless of age and ability. It is a place where people can come together to grow and learn about growing food\, to connect to like-minded people\, to share knowledge and skills and most importantly\, to have fun.\n\nYou can find us on Central Road\, Port Macquarie. We hold working bee's Thursday and Saturday mornings 9-12 in Autumn &amp\; Winter\, 8-11 Spring &amp\; Summer. Everybody's always welcome.\n
LOCATION:The Lost Plot Community Gardens Port Macquarie\, Central Road\, Port Macquarie NSW 2444\, NSW\, 2444
RRULE:FREQ=WEEKLY;INTERVAL=1;BYDAY=TH,SA
END:VEVENT
END:VCALENDAR
