BEGIN:VCALENDAR
VERSION:2.0
PRODID:-//My Community Diary//iCal Event//EN
CALSCALE:GREGORIAN
METHOD:PUBLISH
BEGIN:VEVENT
UID:a7e28597-a14f-4d48-bb1f-eb8dc1a3b033
DTSTAMP:20260424T164511Z
DTSTART:20240204T000000Z
DTEND:20240204T235959Z
SUMMARY:The Rock Triathlon
DESCRIPTION:The Rock Triathlon is back. The event caters to all ages and fitness levels and is included in the Riverina Tri-Series. Proceedings for the day include a sprint\, enticer\, walkathon\, junior and sub-junior. Teams are welcome.\n\nAll entries must register online\, and The Rock Triathlon is a COVID-19 safe event.\n\nCome along and enjoy a great day out in beautiful\, natural surroundings. All events will start at The Rock Recreation Ground\, Victoria Park in Wilson Street\, The Rock.
LOCATION:\, Wilson Street\, The Rock\, NSW 2655\, NSW\, 2655
END:VEVENT
END:VCALENDAR
