BEGIN:VCALENDAR
VERSION:2.0
PRODID:-//My Community Diary//iCal Event//EN
CALSCALE:GREGORIAN
METHOD:PUBLISH
BEGIN:VEVENT
UID:de1a6b9f-dc12-4e90-82e6-2f0159be412e
DTSTAMP:20260422T000842Z
DTSTART;VALUE=DATE:20260906
DTEND;VALUE=DATE:20260907
SUMMARY:Adelaide River Community Craft Market
DESCRIPTION:The Adelaide River Market showcases local handmade craft. \n\nItems on sale include knitted chooks\, caravan napkin holders\, preserves (Rosella Jam\, Chutney\, Tomato Relish\, Chilli Jam)\, homemade Mango fruit cake\, Pineapple fruit cake\, Date and Walnut Cake\,  Anzac biscuits\,  handmade jewellery\, crocheted hand towel and tea towel tops\, second hand books\, card holders\, jewellery pouches and lots more. \n\nHeld at Glen Huitson Park in the heart of Adelaide River\, four days a week in the Dry Season from Easter Saturday to Father's Day - Saturday\, Sunday\, Monday and Wednesday.\n\nStroll under the shade in the park and enjoy the atmosphere of this unique market.
LOCATION:\, Lot 188 Stuart Highway Stuart Highway\, Adelaide River\, NT 0846\, NT\, 0846
RRULE:FREQ=DAILY;INTERVAL=1;UNTIL=20260908T000000Z
END:VEVENT
END:VCALENDAR
