BEGIN:VCALENDAR
VERSION:2.0
PRODID:-//My Community Diary//iCal Event//EN
CALSCALE:GREGORIAN
METHOD:PUBLISH
BEGIN:VEVENT
UID:eefc40fa-a9fc-477e-9b7b-bcd91661f616
DTSTAMP:20260424T164533Z
DTSTART:20211002T080000Z
DTEND:20211002T090000Z
SUMMARY:Beach Yoga
DESCRIPTION:Join them for yoga by the beach! The beaches of Western Australia are a highlight of everyone's travels and there's nothing more relaxing than starting your mornings with yoga overlooking the sparkling Indian Ocean!\n\nBeach Yoga classes are a moving meditation in the sun\, flowing with the breath and taking the time to relax and experience each posture. Suitable for all levels\, including beginner students. Start your weekend enjoying your yoga practice in nature at the beautiful South Beach!\n\nClasses are located at Ocean Road\, South Fremantle\, just north of the South Beach Cafe. Look out for the orange flags!\n\nPlease note that you will need to bring-your-own (BYO) mat/towel to practice on and any other props you like to use.\n\n\n\nEntry Cost\nAll tickets $15  - Single class is AUD15.  Children and teenagers are welcome\, please contact them prior to class to confirm your child's attendance.
LOCATION:\, Ocean Road\, South Fremantle\, WA 6162\, WA\, 6162
RRULE:FREQ=DAILY;INTERVAL=1;UNTIL=20240526T000000Z
END:VEVENT
END:VCALENDAR
