BEGIN:VCALENDAR
VERSION:2.0
PRODID:-//My Community Diary//iCal Event//EN
CALSCALE:GREGORIAN
METHOD:PUBLISH
BEGIN:VEVENT
UID:0d50035e-66a1-49d5-8839-0c57dc948ff8
DTSTAMP:20260424T164435Z
DTSTART:20240104T093000Z
DTEND:20240104T173000Z
SUMMARY:Starlight Festival
DESCRIPTION:The Bangalow Starlight Festival is four days of spiritual growth\, enlightenment and expanding consciousness. With renowned practitioners and specialists across a variety of fields including massage\, yoga\, natural products\, soulful food\, healing\, music and much more. \n\nThe festival features markets\, sound healing\, healing\, all-day yoga\, workshops and talks all facilitated by acclaimed local and national presenters. Bringing together exhibitors and teachers focused on health\, well-being\, sustainability\, healing\, lifestyle and enlightenment. \n\nThe Starlight Festival is the perfect opportunity to ignite your spirit\, nourish your soul and celebrate conscious living among like-minded individuals.\n\nEntry Cost\nAdult $30  - Kids free with a paying adult.
LOCATION:\, 3 Station Street\, Bangalow\, NSW 2479\, NSW\, 2479
RRULE:FREQ=DAILY;INTERVAL=1;UNTIL=20240108T000000Z
END:VEVENT
END:VCALENDAR
