BEGIN:VCALENDAR
VERSION:2.0
PRODID:-//My Community Diary//iCal Event//EN
CALSCALE:GREGORIAN
METHOD:PUBLISH
BEGIN:VEVENT
UID:a5fdae06-da67-43a7-8eff-4c99b0b9478b
DTSTAMP:20260424T164411Z
DTSTART:20240310T100000Z
DTEND:20240310T140000Z
SUMMARY:Eat Festival
DESCRIPTION:The Eat Merimbula Festival is the premium food festival of the Sapphire Coast NSW.  Each year the region comes together on the foreshore of Merimbula Lake to celebrate the local chefs\, cooks and produce of the region.\n\nThe super-popular day celebrates local heroes with award-winning oysters and seafood\, prime cuts from rich paddocks and sweet delights. Guests are encouraged to settle on a picnic blanket and savour something new.\n\nIn 2024\, Sunday's popular large gathering on Merimbula's Fishpen will return\, along with a host of satellite events featuring the towns and villages too. \n\nPartner events will run over the entire weekend and provide a richer and more delicious experience for visitors and locals alike.  Keep checking in with the website as they head toward the big day.
LOCATION:\, Fishpen Road\, Foreshore of Merimbula Lake\, Merimbula\, NSW 2548\, NSW\, 2548
END:VEVENT
END:VCALENDAR
