BEGIN:VCALENDAR
VERSION:2.0
PRODID:-//My Community Diary//iCal Event//EN
CALSCALE:GREGORIAN
METHOD:PUBLISH
BEGIN:VEVENT
UID:66db05f0-b836-4b26-8fad-7118dd5adca3
DTSTAMP:20260424T154950Z
DTSTART:20240621T000000Z
DTEND:20240621T235959Z
SUMMARY:St Lawrence Wetlands Weekend
DESCRIPTION:Queensland's premiere cultural and food event is back in 2024 to tantalize your tastebuds\, animate your artistic bones and blow you away with some of the best entertainment and First Nations performers as one of nature’s finest wetlands burst into life.\n\nThe 2024 event will be held at the St Lawrence Sportsground\, Railway Parade. Camping\, Caravanning\, and Glamping will continue to be available at the Recreational Grounds just a couple of minutes away.\n\nThe 3-day event provides one of Queensland’s most unique experiences with visitors enjoying our unique intimate setting and partaking in the arts and cultural heritage experiences\, delighting in localized culinary sessions while exploring the wetlands.\n\nCount on Costa!\nCosta Georgiadis is making a return hosting interactive workshops\, eco-walks\, and live shows that will enhance your wetlands experience.\n\nDan and Steph bring the gourmet!\nThey are excited to introduce celeb chefs and winners of My Kitchen Rules 2013 Dan and Steph as culinary experts for the weekend. You won't want to miss the luncheon on Saturday for a taste explosion.\n\nNik Flack is back!\nThey won’t be short on foodie experiences as Mackay's local and talented chef Nik Flack provides attendees with mouthwatering signature elements.  More details to be announced soon.\n\nGeneral Admission\nGardening sessions with Costa\, cultural experiences\, historical town tours\, bird watching\,  environmental presentations\, stalls\, children's activities\, and live entertainment.
LOCATION:\, 1 Railway Parade\, St Lawrence\, QLD 4707\, QLD\, 4707
RRULE:FREQ=DAILY;INTERVAL=1;UNTIL=20240624T000000Z
END:VEVENT
END:VCALENDAR
