BEGIN:VCALENDAR
VERSION:2.0
PRODID:-//My Community Diary//iCal Event//EN
CALSCALE:GREGORIAN
METHOD:PUBLISH
BEGIN:VEVENT
UID:fd420087-9d43-4cb2-a7d0-0b429c0a48f3
DTSTAMP:20260424T164403Z
DTSTART:20240303T000000Z
DTEND:20240303T235959Z
SUMMARY:Dalgety Show
DESCRIPTION:The Dalgety Show Society look forward to seeing you all for the greatest little show in South East NSW!\n\nThe Dalgety Show offers animal stalls and pavilions with displays of cattle\, sheep and goats\, horse jumping and side show alley activities. Come and enjoy a great day out at a country show!\n\nThe first show in 1945 was officially held to raise money to build a Memorial Hall to honour soldiers fighting in the war. This show\, described by one involved as 'a pretty rough turnout' was followed by several shows that didn't make any money and where no records were kept. However\, the fact that the show has been successfully held every year since then is a tribute to the ingenuity and determination of the small community.\n\nA quilt exhibition is also held in conjunction with the Show and is held in the Memorial Hall.
LOCATION:\, Campbell Street\, Dalgety\, NSW 2628\, NSW\, 2628
END:VEVENT
END:VCALENDAR
