BEGIN:VCALENDAR
VERSION:2.0
PRODID:-//My Community Diary//iCal Event//EN
CALSCALE:GREGORIAN
METHOD:PUBLISH
BEGIN:VEVENT
UID:97a69d53-1de5-4b6e-a290-b7728cea6484
DTSTAMP:20260421T222801Z
DTSTART;TZID=E. Australia Standard Time:20240907T090000
DTEND;TZID=E. Australia Standard Time:20240907T100000
SUMMARY:Introductory Tai Chi Session 
DESCRIPTION:Learn the health giving art of Taoist Tai Chi. The first class is obligation free.&nbsp\; The course runs weekly for approx. 3 to 4 months.&nbsp\; Please pre-register using the web link provided.\n
LOCATION:Taoist Tai Chi Society of Australia - Toowoomba\, 10 Gregory Street Harlaxton QLD 4350\, QLD\, 4350
RRULE:FREQ=WEEKLY;INTERVAL=1;BYDAY=SA
END:VEVENT
END:VCALENDAR
