BEGIN:VCALENDAR
VERSION:2.0
PRODID:-//My Community Diary//iCal Event//EN
CALSCALE:GREGORIAN
METHOD:PUBLISH
BEGIN:VEVENT
UID:2b5f23d2-8cf9-4662-bec5-3b744eb05bef
DTSTAMP:20260424T160625Z
DTSTART:20240128T000000Z
DTEND:20240128T235959Z
SUMMARY:Corowa Rotary Federation Festival
DESCRIPTION:Enjoy the colour and musical extravaganza of the National Federation Festival\, scheduled over the Australia Day long weekend. \n\nVisitors are treated to an array of fabulous bands\, music and festival activities with markets\, buskers\, food and wine experiences\, B and S Ball\, and the old fashioned grand parade along Sanger Street.
LOCATION:\, Bangarang Park\, Corowa\, NSW 2646\, NSW\, 2646
END:VEVENT
END:VCALENDAR
