BEGIN:VCALENDAR
VERSION:2.0
PRODID:-//My Community Diary//iCal Event//EN
CALSCALE:GREGORIAN
METHOD:PUBLISH
BEGIN:VEVENT
UID:ee2874f6-34d9-4ada-8de5-68df5ee65f44
DTSTAMP:20260422T000850Z
DTSTART;VALUE=DATE:20260429
DTEND;VALUE=DATE:20260430
SUMMARY:10 Toes Trivia Night
DESCRIPTION:Love trivia? Hate trivia? Indifferent? \n\nNo matter how you feel\, Quiz Meisters is trivia but good. \n\nThey’ve got trivia from their friends at Quiz Meisters every Wednesday at 6:30pm. Book your table now for a hit of trivia goodness!
LOCATION:\, 1-5 Pittards Road\, Buderim\, QLD 4556\, QLD\, 4556
RRULE:FREQ=DAILY;INTERVAL=1;UNTIL=20260501T000000Z
END:VEVENT
END:VCALENDAR
