BEGIN:VCALENDAR
VERSION:2.0
PRODID:-//My Community Diary//iCal Event//EN
CALSCALE:GREGORIAN
METHOD:PUBLISH
BEGIN:VEVENT
UID:7f7342bb-bd7c-4562-8b3e-89d461515162
DTSTAMP:20260424T164409Z
DTSTART:20240309T000000Z
DTEND:20240309T235959Z
SUMMARY:148th Cooma Show
DESCRIPTION:There will be a wonderful day out with entertainment for the whole family.\n\nIn the main arena show jumping\, horse ring events on Friday and Saturday\, cattle\, sheep and poultry exhibitions\, dog high jump\, great music and entertainment\, patting paddock\, a reptile man  and of course the Pavilion full of flowers\, veggies\, art\, craft\, photography and cooking.\n\nEntry Cost\nAdult $10 \nChild $5  - Children under five years are free
LOCATION:\, Cromwell Street\, Cooma\, NSW 2630\, NSW\, 2630
END:VEVENT
END:VCALENDAR
