BEGIN:VCALENDAR
VERSION:2.0
PRODID:-//My Community Diary//iCal Event//EN
CALSCALE:GREGORIAN
METHOD:PUBLISH
BEGIN:VEVENT
UID:9ed9cb6a-b906-4d8b-ab1a-e2288923d1f0
DTSTAMP:20260424T164511Z
DTSTART:20240209T000000Z
DTEND:20240209T235959Z
SUMMARY:AgriWest Cooma Rodeo
DESCRIPTION:The Cooma Rodeo is a long-standing and well-loved event on the social calendar of the Monaro region.  The first Cooma Rodeo was over 100 years ago\, possibly as a bet between two station workers and has grown into one of the most respected and entertaining rodeos.\n\nThere is a strong committee\, working hard to ensure that a rodeo is a great event for entrants and spectators.\n\n\nCome to Cooma Showground to enjoy all the thrills and spills the Cooma Rodeo has to offer.
LOCATION:\, Cromwell Street\, Cooma\, NSW 2630\, NSW\, 2630
END:VEVENT
END:VCALENDAR
