BEGIN:VCALENDAR
VERSION:2.0
PRODID:-//My Community Diary//iCal Event//EN
CALSCALE:GREGORIAN
METHOD:PUBLISH
BEGIN:VEVENT
UID:8d5e8e2b-1dda-49d0-801a-935c5eebfef0
DTSTAMP:20260424T164401Z
DTSTART:20240126T000000Z
DTEND:20240126T235959Z
SUMMARY:Cooma Australia Day Celebrations
DESCRIPTION:The theme for this year is ‘Respect\, reflect and celebrate the story of Australia'. \n\nOn Australia Day\, they reflect on our history\, its highs and its lows. \n\nThey respect the stories of others.\n\nAnd they celebrate their nation\, its achievements and most of all\, its people.\n\nWe're all part of the story.\n\nIn  Cooma our day starts with a wonderful breakfast at the Cooma Car Club Clubhouse\, followed by a range of activities in Centennial Park. \n\nCome and join them for a great day of food\, music\, exhibitions and displays of what's great in the region. \n\nThe following details were for 2023\, stay tuned for details for 2024\n 7.30am Breakfast\, Cooma Car Club\, Bolaro Street\n 10.00am Activities\, Centennial Park\n12.00pm Ceremony\, Centennial Park\n\nKeep an eye out for news on Australia Day Celebrations for 2023 on Facebook and the website visitcooma.com.au.
LOCATION:\, Sharp Street\, Cooma\, NSW 2630\, NSW\, 2630
END:VEVENT
END:VCALENDAR
