BEGIN:VCALENDAR
VERSION:2.0
PRODID:-//My Community Diary//iCal Event//EN
CALSCALE:GREGORIAN
METHOD:PUBLISH
BEGIN:VEVENT
UID:f6e0b0c4-b76c-40ae-a726-a4316f48a6e7
DTSTAMP:20260424T164401Z
DTSTART:20240425T000000Z
DTEND:20240425T235959Z
SUMMARY:Commemoration Service
DESCRIPTION:The ANZAC Commemoration Service is held at the ANZAC Memorial\, Hyde Park\, adjacent to the Pool of Remembrance\, commencing at 12.30pm. \n\nThe service has developed into an impressive dedication to ANZAC\, usually attended by His Excellency the Governor\, Premier of New South Wales\, Leader of the Opposition\, senior service representatives\, invited guests and members of the community. In recent years a United Drumhead Service has been introduced. This year support is to be provided by cadets from The Scots College and a choir accompanied by the NSW Police Concert Band.\n\nNSW Police Concert Band and the Scots College Massed Pipe Band traditionally provide music for the Commemoration Service and take post in the band bay and pool surrounds as directed.
LOCATION:\, Hyde Park\, Sydney\, NSW 2000\, NSW\, 2000
END:VEVENT
END:VCALENDAR
