BEGIN:VCALENDAR
VERSION:2.0
PRODID:-//My Community Diary//iCal Event//EN
CALSCALE:GREGORIAN
METHOD:PUBLISH
BEGIN:VEVENT
UID:9e9af32c-a06a-4e47-bff4-b1830cdcf37f
DTSTAMP:20260424T161703Z
DTSTART:20230115T000000Z
DTEND:20230115T235959Z
SUMMARY:Clarence Town Markets
DESCRIPTION:The markets are located on the grounds of the Clarence Town Bowling Sport and Recreation Club in a charming little country town on the Williams River\, and they love seeing people come to visit. \n\nThere is an average of 20 stalls per month\, with a huge variety of stallholders.  Open from 8 am to 12 noon with vintage\, candles\, second-hand goods\, bric a brac\, goat soap\, cakes\, plants and books and much more. Stallholders are welcomed.
LOCATION:\, Corner Prince Street and Durham Street Clarence Town Bowling Club Car Park\, Clarence Town\, NSW 2321\, NSW\, 2321
RRULE:FREQ=MONTHLY;INTERVAL=1;BYDAY=3MO;UNTIL=20240122T000000Z
END:VEVENT
END:VCALENDAR
