BEGIN:VCALENDAR
VERSION:2.0
PRODID:-//My Community Diary//iCal Event//EN
CALSCALE:GREGORIAN
METHOD:PUBLISH
BEGIN:VEVENT
UID:70e9b136-a5ae-45db-8d33-2d5e300a42eb
DTSTAMP:20260424T165406Z
DTSTART:20240420T000000Z
DTEND:20240420T235959Z
SUMMARY:Canowindra International Balloon Challenge
DESCRIPTION:See the magic and spectacle as one of the Southern Hemispheres biggest Hot air balloon events takes to the sky over the beautiful Canowindra countryside in Central West NSW.\n\nThe action is at either end of the day with balloons flying at sunrise and in the last hour before sunset over a 9 day period at the beginning of April. \n\nThe signature event is the Cabonne Community Glow and night markets where you will enjoy local produce\, wine\, crafts and entertainment culminating in a night display as the balloons light up synchronised to music.  \n\nWatching the balloons each day is free but there is an entry charge for the Balloon Glow.\n\nAs the action happens at either end of the day this leaves plenty of time for exploring the incredible sights in the area and visting the villages and town of the area. Stop in at wineries and local food producers to get a real sense of how wonderful this area is.\n\nWhilst in Canowindra visit the Age of Fishes Museum (home of the State Fossil)\, wander down the historic main street  or enjoy art galleries\, wonderful coffee\, cellar doors and quirky shopping.
LOCATION:\, 199 Rodd Street\, Canowindra\, NSW 2804\, NSW\, 2804
RRULE:FREQ=DAILY;INTERVAL=1;UNTIL=20240429T000000Z
END:VEVENT
END:VCALENDAR
