BEGIN:VCALENDAR
VERSION:2.0
PRODID:-//My Community Diary//iCal Event//EN
CALSCALE:GREGORIAN
METHOD:PUBLISH
BEGIN:VEVENT
UID:38cfa81e-1907-434a-a05f-ed19d30dc518
DTSTAMP:20260424T164558Z
DTSTART:20180917T103000Z
DTEND:20180917T140000Z
SUMMARY:Beach Kayak Tour
DESCRIPTION:Bundeena Kayaks runs their popular Beach Kayak Tour twice daily  from their beachfront base in beautiful Bundeena.  This short guided kayak tour (1.5 hours) takes in the gorgeous bays and beaches of this picturesque nature lover's paradise and is the perfect start into the fun sport of kayaking.\n\nAbsolutely perfect for those who haven't kayaked before and would like the assistance of one of experienced and friendly guides. Kayak\, paddle and safety vest included as well as basic kayaking instruction and guide accompaniment for duration of tour.\n\nEntry Cost\nAdult $70 \nChild $55 
LOCATION:\, 5 Sea Breeze Lane\, Bundeena\, NSW 2230\, NSW\, 2230
RRULE:FREQ=DAILY;INTERVAL=1;UNTIL=20250624T000000Z
END:VEVENT
END:VCALENDAR
