BEGIN:VCALENDAR
VERSION:2.0
PRODID:-//My Community Diary//iCal Event//EN
CALSCALE:GREGORIAN
METHOD:PUBLISH
BEGIN:VEVENT
UID:a5f3b21e-8a62-4077-857f-18f829f272db
DTSTAMP:20260424T164402Z
DTSTART:20220409T083000Z
DTEND:20220409T120000Z
SUMMARY:Blue Knob Community Market
DESCRIPTION:Blue Knob Community Market is a weekly market focusing on sustainability\, particularly encouraging the growing and buying of local goods. This friendly market features a fabulous range of fruit\, veggies\, seedlings\, wood-fired loaves of bread and delicious pastries\, as well as local homemade produce. Located at the Blue Knob Hall.
LOCATION:\, 719 Blue Knob Road\, Lillian Rock\, NSW 2480\, NSW\, 2480
RRULE:FREQ=WEEKLY;INTERVAL=1;BYDAY=SA;UNTIL=20240204T000000Z
END:VEVENT
END:VCALENDAR
